BEGIN:VCALENDAR
VERSION:2.0
PRODID:-//Cameron House - ECPv6.15.13//NONSGML v1.0//EN
CALSCALE:GREGORIAN
METHOD:PUBLISH
X-WR-CALNAME:Cameron House
X-ORIGINAL-URL:https://cameronhouse.org
X-WR-CALDESC:Events for Cameron House
REFRESH-INTERVAL;VALUE=DURATION:PT1H
X-Robots-Tag:noindex
X-PUBLISHED-TTL:PT1H
BEGIN:VTIMEZONE
TZID:America/Los_Angeles
BEGIN:DAYLIGHT
TZOFFSETFROM:-0800
TZOFFSETTO:-0700
TZNAME:PDT
DTSTART:20250309T100000
END:DAYLIGHT
BEGIN:STANDARD
TZOFFSETFROM:-0700
TZOFFSETTO:-0800
TZNAME:PST
DTSTART:20251102T090000
END:STANDARD
BEGIN:DAYLIGHT
TZOFFSETFROM:-0800
TZOFFSETTO:-0700
TZNAME:PDT
DTSTART:20260308T100000
END:DAYLIGHT
BEGIN:STANDARD
TZOFFSETFROM:-0700
TZOFFSETTO:-0800
TZNAME:PST
DTSTART:20261101T090000
END:STANDARD
BEGIN:DAYLIGHT
TZOFFSETFROM:-0800
TZOFFSETTO:-0700
TZNAME:PDT
DTSTART:20270314T100000
END:DAYLIGHT
BEGIN:STANDARD
TZOFFSETFROM:-0700
TZOFFSETTO:-0800
TZNAME:PST
DTSTART:20271107T090000
END:STANDARD
END:VTIMEZONE
BEGIN:VEVENT
DTSTART;VALUE=DATE:20260530
DTEND;VALUE=DATE:20260531
DTSTAMP:20260423T165756
CREATED:20260421T035451Z
LAST-MODIFIED:20260422T211820Z
UID:26767-1780099200-1780185599@cameronhouse.org
SUMMARY:Sign up now! Tien Fuh Wu Day of Service
DESCRIPTION:Sign up now! Tien Fuh Wu Day of Service\, hosted by Friends of Cameron House \nFriends of Cameron House is excited to invite you to the Tien Fuh Wu Day of Service on Saturday\, May 30\, a day of fun and service dedicated to giving back to San Francisco Chinatown and honoring the legacy of Tien Fuh Wu\, who devoted her life to serving those in need. \nThis meaningful day of volunteerism welcomes all ages and abilities. Come with friends\, family\, or on your own to meet new\, service-minded people\, give back to the community\, and share a meal together. All supplies will be provided—just bring your energy and heart to serve. \nCheck out the available opportunity times.\nSign up here!: https://www.signupgenius.com/go/10C0548ACAA2BA5FFC70-63683386-tien#/ \nThis year’s service projects include: \n\nJoin a Chinatown trash pickup in partnership with Civic Joy Fund\, helping keep the neighborhood cleaner\, more welcoming\, and cared for\nHelp distribute food at the Presbyterian Church in Chinatown\, supporting low income families with care and dignity through an organized pantry effort\nRefresh the main office at Chinese Congregational Church with a fresh coat of paint\, cleaning\, and office tasks\, improving an impactful hub used for ministry\, meetings\, and service\nWrite heartfelt letters to deployed troops with A Million Thanks with stationary and craft supplies in Cameron House’s Culbertson Hall\, offering encouragement\, gratitude\, and connection to American service members far from home\nHelp us get ready for our summer programs by power washing the Cameron House façade\, fostering a greater sense of dignity\, pride\, and care for the low income kids and families who walk through our doors\nGive the Cameron House van a sudsy thorough car wash\, inside and out\, so it is clean\, refreshed\, and ready to support youth programs\, community events\, and neighborhood service\nHarvest fresh produce and support the upkeep of Florence Fang Community Farm\, extending our service beyond Chinatown in Bayview\nAnd\, perhaps the most important job of the day\, organize\, serve\, and deliver boxed lunches to the Day of Service volunteers\, staff\, and community members\, keeping them fueled and nourished throughout the day\n\nClick here to see pictures from last years Day of Service! It was an incredible experience for all involved\, which is why we’re all so eager to do it again! \nWe’ve renamed our Day of Service to honor Tien Fuh Wu\, a leader\, icon\, and perfect example of someone who served her community with quiet dedication and care. Come add to Tien Fuh Wu’s legacy and support Chinatown. Read more about Tien Fuh Wu here.
URL:https://cameronhouse.org/event/dayofservice/
CATEGORIES:FoCH
ATTACH;FMTTYPE=image/png:https://cameronhouse.org/wp-content/uploads/2026/04/header2.png
END:VEVENT
END:VCALENDAR