BEGIN:VCALENDAR
VERSION:2.0
PRODID:-//Cameron House - ECPv6.15.13//NONSGML v1.0//EN
CALSCALE:GREGORIAN
METHOD:PUBLISH
X-WR-CALNAME:Cameron House
X-ORIGINAL-URL:https://cameronhouse.org
X-WR-CALDESC:Events for Cameron House
REFRESH-INTERVAL;VALUE=DURATION:PT1H
X-Robots-Tag:noindex
X-PUBLISHED-TTL:PT1H
BEGIN:VTIMEZONE
TZID:America/Los_Angeles
BEGIN:DAYLIGHT
TZOFFSETFROM:-0800
TZOFFSETTO:-0700
TZNAME:PDT
DTSTART:20250309T100000
END:DAYLIGHT
BEGIN:STANDARD
TZOFFSETFROM:-0700
TZOFFSETTO:-0800
TZNAME:PST
DTSTART:20251102T090000
END:STANDARD
BEGIN:DAYLIGHT
TZOFFSETFROM:-0800
TZOFFSETTO:-0700
TZNAME:PDT
DTSTART:20260308T100000
END:DAYLIGHT
BEGIN:STANDARD
TZOFFSETFROM:-0700
TZOFFSETTO:-0800
TZNAME:PST
DTSTART:20261101T090000
END:STANDARD
BEGIN:DAYLIGHT
TZOFFSETFROM:-0800
TZOFFSETTO:-0700
TZNAME:PDT
DTSTART:20270314T100000
END:DAYLIGHT
BEGIN:STANDARD
TZOFFSETFROM:-0700
TZOFFSETTO:-0800
TZNAME:PST
DTSTART:20271107T090000
END:STANDARD
END:VTIMEZONE
BEGIN:VEVENT
DTSTART;TZID=America/Los_Angeles:20260306T120000
DTEND;TZID=America/Los_Angeles:20260306T130000
DTSTAMP:20260423T120244
CREATED:20260221T223121Z
LAST-MODIFIED:20260221T223224Z
UID:26600-1772798400-1772802000@cameronhouse.org
SUMMARY:Tien Fuh Wu Way
DESCRIPTION:The block of Joice Street between Sacramento and Clay Streets has been commemoratively re-named Tien Fuh Wu Way. \nBorn into indentured servitude and rescued as a child\, Tien Fuh Wu—or Auntie Wu as she was known to many of Cameron House’s girls and women—became a central leader in San Francisco’s early anti-trafficking movement. Fluent in Cantonese and deeply trusted by survivors\, she worked tirelessly to protect women and girls from exploitation. \nJoice Street holds historic meaning. It was once a place where rescued girls\, Tien Fuh Wu included\, played\, laughed\, and found moments of safety. \nLittle is known about Tien Fuh Wu\, especially when compared to the iconic Donaldina Cameron\, but her impact on San Francisco’s Chinatown is larger than life. This commemorative renaming is just the beginning of the recognition that Tien Fuh Wu deserves. \nUpcoming Celebrations \n\nMarch 6 — Tien Fuh Wu Way sign unveiling and neighborhood ceremony\nMarch 19 – Tien Fuh Wu honored posthumously at Cameron House’s annual gala\nMay 30 – Tien Fuh Wu Day of Service\n\nJoin us this Women’s History Month as we turn history into action. \nSign up for March 6 celebration here: https://www.tfaforms.com/5213425 \nLearn more on our main Tien Fuh Wu page: https://cameronhouse.org/tien-fuh-wu-way/
URL:https://cameronhouse.org/event/tien-fuh-wu-way/
ATTACH;FMTTYPE=image/png:https://cameronhouse.org/wp-content/uploads/2026/02/google-form-header.png
END:VEVENT
BEGIN:VEVENT
DTSTART;TZID=America/Los_Angeles:20260307T180000
DTEND;TZID=America/Los_Angeles:20260307T210000
DTSTAMP:20260423T120244
CREATED:20260304T050257Z
LAST-MODIFIED:20260304T051640Z
UID:26641-1772906400-1772917200@cameronhouse.org
SUMMARY:Chinese New Year Parade Watch Party
DESCRIPTION:Celebrate Chinese New Year 2026 with Cameron House! \n \n\nFor the first time since 1971\, Cameron House’s youth program kids and teens will march and perform in San Francisco Chinatown’s Chinese New Year Parade\, performing the story of Ne Zha\, a brave\, spirited Chinese mythological youth who stands up to the Dragon King of the Eastern Sea to protect his community—a beloved and powerful story about courage\, justice\, and fighting for others.\n\n\n\nCheer on our performers and get in the CNY spirit from the comfort of Cameron House as we watch the televised parade or join us in Culbertson Hall after the parade to warmly welcome back our performers. All ages are welcome. Space is limited.\n\nHot food and drinks will be served\, sponsored by Paul Lum and Susan Lee\, the former of whom was part of the 1971 CNY parade team of creators and performers!\n\nSign up here: https://www.tfaforms.com/5213549 \n\nEvent Details:\nAddress: 920 Sacramento St\, San Francisco\, CA 94108\nWhen: Saturday\, March 7\, 2025\, 6:00 PM to 9:00 PM\n\n\n\n\n\nIf you have any questions\, please reach out to our Advancement Office at advancement@cameronhouse.org or call (415) 767-4389.\n\nIf you would like to support Cameron House by making a donation to our general fund\, please use our online donation form.
URL:https://cameronhouse.org/event/chinese-new-year-parade-watch-party-2/
LOCATION:Cameron House\, 920 Sacramento St\, San Francisco\, CA\, 94108\, United States
ATTACH;FMTTYPE=image/png:https://cameronhouse.org/wp-content/uploads/2026/02/CNY-1.png
END:VEVENT
BEGIN:VEVENT
DTSTART;VALUE=DATE:20260319
DTEND;VALUE=DATE:20260320
DTSTAMP:20260423T120244
CREATED:20260123T023111Z
LAST-MODIFIED:20260220T002425Z
UID:26444-1773878400-1773964799@cameronhouse.org
SUMMARY:Cameron House Gala 2026
DESCRIPTION:Lighting the Way: Recognizing Those Who Illuminate the Path for Bright Futures​ \n \nDear Friends\, \nBecause of the Cameron House community\, we have stepped into 2026 with great momentum\, important perspective\, and loads of excitement for what’s to come! And\, in celebration\, we’re thrilled to share that the Cameron House Gala is right around the corner! \nTheme: “Lighting the Way: Recognizing Those Who Illuminate the Path for Bright Futures”\nDate: Thursday\, March 19\, 2026\, 4:00 PM VIP Experience; 6:00 PM Dinner and Keynote; 9:00 PM After Party\nLocation: Julia Morgan Ballroom\, Merchants Exchange Building\, 465 California Street\, San Francisco \nThis special evening is a celebration of our 152-year legacy and the powerful leaders who have lit our way here and a fundraiser for the bright future of our mission and work. \nRead on to learn about each part of the gala evening. General Admission tickets go on sale Tuesday\, February 10th with only a short one-week Early Bird discount window! \nAre You a Cameron House Legacy Circle\, Lifetime\, or Major Donor? \nIf so\, thank you for investing in us early\, generously\, and often! Because of your support\, we’re giving you\, our BFFs—best friends forever\, as the kids say—early access to gala tickets! As a Legacy Circle member\, Lifetime Donor\, or Major Donor\, you will receive a secret early access code via email to buy tickets starting THIS Tuesday\, January 27th–two full weeks before they go on sale to the general public \nIf you would like to be an individual sponsor\, do not complete the form. Please reach out to Kim Lan at kimlan@cameronhouse.org \nCLICK HERE TO BUY TICKETS! \n🎟️ We have ticket options to fit every kind of celebration style: Stay tuned for ticket sales!​ \nPackage A – VIP Experience\, Merchants’ Exchange Club\, 4:00-5:30 PM \nPrice: $650 \nGreat news: $300 of each VIP Experience ticket is tax deductible. VIP Experience tickets also include access to the Gala Dinner and After Party. \nThe VIP Experience will feature a bespoke architecture tour of the Merchants’ Exchange Building crafted just for Cameron House’s VIP guests\, leading us through the little known nooks and crannies of this historic property. Kicking off the gala evening\, the VIP Experience will take place in the private speakeasy-esque Merchants Exchange Club in the basement of the Merchants’ Exchange Building. Throughout the VIP experience\, guests will be serenaded by young local musicians performing the guzheng (Chinese harp)\, illustrating how ancient instruments live on within our youth in the modern world. Our VIP guests will be further delighted by a special performance by Cameron House’s own BAP (Bilingual Afterschool Program) children. With light hors d’oeuvres complimenting an open bar and plenty of moments to socialize with fellow special guests\, the VIP Experience will whet our appetites and generate excitement for the rest of the evening’s fun. As this is a unique and intimate event\, tickets to the VIP Experience are very limited. \nPackage B – Gala Dinner\, Julia Morgan Ballroom\, 5:00 – 9:00 PM \nPrice: $350 \nGala Dinner tickets include Cocktail Reception\, Dinner\, the Keynote Address\, and access to the After Party. \nThe signature event of the evening is the Cameron House Gala Dinner\, featuring the theme “Lighting the Way” in recognition of the leaders who have illuminated the path for Cameron House’s bright future. Between dinner and wine and dessert and dancing\, our Mistress of Ceremonies\, local legend\, journalist\, and philanthropist Emerald Yeh will welcome the evening’s keynote speaker\, former “Cameron House kid” Jenny Ming\, CEO of Rothy’s\, former CEO of Old Navy and Board Director for Levi Strauss & Co.\, Poshmark\, and Kaiser Permanente\, among others\, to the stage to share with us the lessons and trailblazers who guided her along her path to broken records and shattered glass ceilings as one of Fortune magazine’s most powerful women in American business. With a special announcement from Cameron House CEO Scott Lan\, a solicitation from Chief Advancement Officer Kim-Lan Thi Grout\, a fundraising “game”\, and truly exciting live and silent auctions\, our gala is set to be one for the history books. \nPackage C – Afterparty Only\, Julia Morgan Ballroom\, 9:00 PM – 11:00 PM \nPrice: $75 \nAfter Party tickets include access to the After Party only (does not include dinner). \nWhen the dinner plates are cleared and the lights turn up\, the night is just getting started—join us in the Merchants’ Exchange Club for the gala’s lively\, club-like After Party celebrating Cameron House and all we’re building together. Featuring San Francisco-native and Chinese hip-hop heavyweight DJ TIGERMOM TOY (Allyson Ortega Toy) spinning feel-good\, high-energy\, body-moving beats. With an open bar\, a packed dance floor\, and a the celebratory vibe\, this is your invitation to raise a glass\, move to the music\, and quite literally dance the future in as we close the night with joy\, momentum\, and community. \nLighting the Way: Exceptional Leaders to be Honored at our Gala \nMing Quan Chang \nMing Quan Chang served Cameron House for over 20 years\, including as Social Services Team Manager/Domestic Violence Case Manager\, where she profoundly shaped survivor-centered and family-centered care. A Southeast Asian refugee and multilingual advocate\, she strengthened culturally responsive support for immigrant and refugee families across generations. She also helped inspire the Friends of Cameron House\, an alumni community dedicated to giving back and supporting others. We are proud to count Ming Quan Chang among the many iconic women who have shaped Cameron House. \nAmy Lee \nAmy Lee is doing the hard work on the frontlines of our community as a proud Chinatown-rooted leader and advocate. She is the founder of Dear Community\, a grassroots organization uplifting Chinatown through cultural programming\, small business support\, and community connection and currently serves as a Legislative Aide to Supervisor Danny Sauter\, supporting District 3 policy and constituent outreach. She is a young\, but mighty leader\, dedicated to strengthening civic engagement and protecting San Francisco’s cultural neighborhoods. Cameron House recognizes Amy Lee’s innovative\, timely\, and proactive contributions to Chinatown and the Bay Area Asian-American community\, rising to meet challenges with tenacity and fearlessness. \nCynthia Huie \nCynthia Huie is the co-founder and owner of On Waverly\, a Chinatown-based bookstore and community space celebrating and spotlighting the work of AAPI authors\, artists\, and makers. Also the President of the San Francisco Small Business Commission\, she advocates for equitable support for local businesses\, city-wide. Cynthia’s work is both creative and pragmatic\, which reaches a broad audience as she blends entrepreneurship\, cultural storytelling\, and neighborhood-centered economic development. Join us as we honor Cynthia Huie\, a modern-day icon\, at our gala. \nAnna Eng \nAnna Eng coordinated and trained countless volunteers\, secured and deployed digital scanning equipment throughout the building\, and worked closely with UC Berkeley’s Bancroft Library to thoughtfully house and protect these invaluable materials. Her daily presence at Cameron House over the course of several years reflected an unwavering commitment to both process and people. As a professor of Gender and Women’s Studies\, her scholarship to equity and community-centered service embody the values that allow institutions like Cameron House to continue serving future generations. \nIndividual Sponsorships​ \nClick here to sponsor! \n \nLearn more about our gala venue!​ \nJulia Morgan Ballroom\nJulia Morgan Ballroom\, Merchants Exchange Building \nThe city’s most influential business leaders chose Daniel H. Burnham\, of Chicago Illinois\, to construct the Merchants Exchange as a central location for businessmen to meet and conduct commerce. Burnham hired up and coming architect\, Willis Jefferson Polk. Polk’s better known San Francisco commissions include the Hallidie Building\, Kezar Stadium\, and the Pacific Union Club on Nob Hill\, which some may remember was featured in Alfred Hitchcock’s thriller\, “Vertigo.” Only four years after work began on the Merchants Exchange\, tragedy struck when the Great Earthquake and Fire of 1906 devastated San Francisco. 28\,000 buildings were lost\, yet the Merchants Exchange Building survived\, albeit damaged by fire. \nTo redesign and rebuild the building’s damaged interiors\, Polk tapped a talented young local architect. Little did he know at the time\, but his daring choice would turn out to be an architectural superstar: Julia Morgan. The first female architect to graduate from the École de Beaux-Arts in Paris and the first licensed female architect in California\, Morgan’s fame would eventually eclipse Polk’s. Morgan’s assignment on the Merchants Exchange began her 45-year relationship with the building. For the better part of the 20th century\, Morgan maintained her offices on the 14th floor of the building\, a space where her most notable designs took shape.
URL:https://cameronhouse.org/event/cameron-house-gala-2026/
LOCATION:julia morgan ballroom\, 465 California St\, San Francisco\, CA\, 94104
CATEGORIES:Advancement
ATTACH;FMTTYPE=image/png:https://cameronhouse.org/wp-content/uploads/2026/01/Website-Events-featured-images-scaled.png
END:VEVENT
BEGIN:VEVENT
DTSTART;VALUE=DATE:20260530
DTEND;VALUE=DATE:20260531
DTSTAMP:20260423T120244
CREATED:20260421T035451Z
LAST-MODIFIED:20260422T211820Z
UID:26767-1780099200-1780185599@cameronhouse.org
SUMMARY:Sign up now! Tien Fuh Wu Day of Service
DESCRIPTION:Sign up now! Tien Fuh Wu Day of Service\, hosted by Friends of Cameron House \nFriends of Cameron House is excited to invite you to the Tien Fuh Wu Day of Service on Saturday\, May 30\, a day of fun and service dedicated to giving back to San Francisco Chinatown and honoring the legacy of Tien Fuh Wu\, who devoted her life to serving those in need. \nThis meaningful day of volunteerism welcomes all ages and abilities. Come with friends\, family\, or on your own to meet new\, service-minded people\, give back to the community\, and share a meal together. All supplies will be provided—just bring your energy and heart to serve. \nCheck out the available opportunity times.\nSign up here!: https://www.signupgenius.com/go/10C0548ACAA2BA5FFC70-63683386-tien#/ \nThis year’s service projects include: \n\nJoin a Chinatown trash pickup in partnership with Civic Joy Fund\, helping keep the neighborhood cleaner\, more welcoming\, and cared for\nHelp distribute food at the Presbyterian Church in Chinatown\, supporting low income families with care and dignity through an organized pantry effort\nRefresh the main office at Chinese Congregational Church with a fresh coat of paint\, cleaning\, and office tasks\, improving an impactful hub used for ministry\, meetings\, and service\nWrite heartfelt letters to deployed troops with A Million Thanks with stationary and craft supplies in Cameron House’s Culbertson Hall\, offering encouragement\, gratitude\, and connection to American service members far from home\nHelp us get ready for our summer programs by power washing the Cameron House façade\, fostering a greater sense of dignity\, pride\, and care for the low income kids and families who walk through our doors\nGive the Cameron House van a sudsy thorough car wash\, inside and out\, so it is clean\, refreshed\, and ready to support youth programs\, community events\, and neighborhood service\nHarvest fresh produce and support the upkeep of Florence Fang Community Farm\, extending our service beyond Chinatown in Bayview\nAnd\, perhaps the most important job of the day\, organize\, serve\, and deliver boxed lunches to the Day of Service volunteers\, staff\, and community members\, keeping them fueled and nourished throughout the day\n\nClick here to see pictures from last years Day of Service! It was an incredible experience for all involved\, which is why we’re all so eager to do it again! \nWe’ve renamed our Day of Service to honor Tien Fuh Wu\, a leader\, icon\, and perfect example of someone who served her community with quiet dedication and care. Come add to Tien Fuh Wu’s legacy and support Chinatown. Read more about Tien Fuh Wu here.
URL:https://cameronhouse.org/event/dayofservice/
CATEGORIES:FoCH
ATTACH;FMTTYPE=image/png:https://cameronhouse.org/wp-content/uploads/2026/04/header2.png
END:VEVENT
END:VCALENDAR