BEGIN:VCALENDAR
VERSION:2.0
PRODID:-//Cameron House - ECPv6.15.13//NONSGML v1.0//EN
CALSCALE:GREGORIAN
METHOD:PUBLISH
X-WR-CALNAME:Cameron House
X-ORIGINAL-URL:https://cameronhouse.org
X-WR-CALDESC:Events for Cameron House
REFRESH-INTERVAL;VALUE=DURATION:PT1H
X-Robots-Tag:noindex
X-PUBLISHED-TTL:PT1H
BEGIN:VTIMEZONE
TZID:America/Los_Angeles
BEGIN:DAYLIGHT
TZOFFSETFROM:-0800
TZOFFSETTO:-0700
TZNAME:PDT
DTSTART:20240310T100000
END:DAYLIGHT
BEGIN:STANDARD
TZOFFSETFROM:-0700
TZOFFSETTO:-0800
TZNAME:PST
DTSTART:20241103T090000
END:STANDARD
BEGIN:DAYLIGHT
TZOFFSETFROM:-0800
TZOFFSETTO:-0700
TZNAME:PDT
DTSTART:20250309T100000
END:DAYLIGHT
BEGIN:STANDARD
TZOFFSETFROM:-0700
TZOFFSETTO:-0800
TZNAME:PST
DTSTART:20251102T090000
END:STANDARD
BEGIN:DAYLIGHT
TZOFFSETFROM:-0800
TZOFFSETTO:-0700
TZNAME:PDT
DTSTART:20260308T100000
END:DAYLIGHT
BEGIN:STANDARD
TZOFFSETFROM:-0700
TZOFFSETTO:-0800
TZNAME:PST
DTSTART:20261101T090000
END:STANDARD
BEGIN:DAYLIGHT
TZOFFSETFROM:-0800
TZOFFSETTO:-0700
TZNAME:PDT
DTSTART:20270314T100000
END:DAYLIGHT
BEGIN:STANDARD
TZOFFSETFROM:-0700
TZOFFSETTO:-0800
TZNAME:PST
DTSTART:20271107T090000
END:STANDARD
END:VTIMEZONE
BEGIN:VTIMEZONE
TZID:UTC
BEGIN:STANDARD
TZOFFSETFROM:+0000
TZOFFSETTO:+0000
TZNAME:UTC
DTSTART:20230101T000000
END:STANDARD
END:VTIMEZONE
BEGIN:VEVENT
DTSTART;TZID=America/Los_Angeles:20260228T133000
DTEND;TZID=America/Los_Angeles:20260228T160000
DTSTAMP:20260423T170628
CREATED:20251120T023501Z
LAST-MODIFIED:20260129T192928Z
UID:26286-1772285400-1772294400@cameronhouse.org
SUMMARY:Legacy Circle Celebration: Living In Color With Polka Dot
DESCRIPTION:Legacy Circle Celebration: Living In Color With Polka Dot \nWe’re excited to invite you to a joyful\, one-of-a-kind celebration honoring the generous legacy donors who have pledged transformational gifts to Cameron House and the Cameron House Foundation. This is our chance to celebrate in life the amazing people helping shape our future and that includes you! \nGet ready for an afternoon that’s fun\, festive\, and full of surprises: \n\nA celebratory toast with bubbly (wine or cider!)\nLight bites to enjoy while you mingle\nThe long-awaited Part 2 of our pre-Covid Polka Dot program\nA mini fashion show featuring Polka Dot’s fabulous pieces before they head to a vintage shop on Haight Street\nA chance for Legacy Circle members to finally get clarity on the difference between giving to Cameron House vs. the Cameron House Foundation—perfect for future estate planning\n\nIt’s a warm\, joyful gathering to celebrate generosity\, reconnect with the community\, and get inspired about the road ahead. We would absolutely love to have you there! \nClick here to sign up: https://www.tfaforms.com/5210077
URL:https://cameronhouse.org/event/legacy-circle-celebration-living-in-color-with-polka-dot/
LOCATION:Cameron House\, 920 Sacramento St\, San Francisco\, CA\, 94108\, United States
CATEGORIES:Legacy Committee Events
ATTACH;FMTTYPE=image/png:https://cameronhouse.org/wp-content/uploads/2025/11/updated-Polkadot-scaled.png
END:VEVENT
BEGIN:VEVENT
DTSTART;VALUE=DATE:20260224
DTEND;VALUE=DATE:20260225
DTSTAMP:20260423T170628
CREATED:20260130T010958Z
LAST-MODIFIED:20260130T011537Z
UID:26511-1771891200-1771977599@cameronhouse.org
SUMMARY:NetxtGen Event: Lunar New Year Banquet with Cameron House
DESCRIPTION:Join us for a delicious community celebration for Cameron House and Florence Fang Community Farm. \nLunar New Year Banquet with Cameron House\nOn Tuesday\, 2/24\, ring in the Year of the Horse with us at Cameron House in historical Chinatown\, San Francisco! As a volunteer-led team of young Asian American chefs\, we’re excited to showcase the ever-evolving spirit of Chinese cuisine\, all in direct benefit for Cameron House’s Next Gen youth leadership programming and Florence Fang Community Farm. \nClick here to purchase your tickets!: https://www.eventbrite.com/e/lunar-new-year-banquet-with-cameron-house-tickets-1981028221739?aff=oddtdtcreator \nFollowing dinner\, we’ll gallop into a tea mixer featuring: \n🎶 Tunes by DJs @redbeans & @sea2sea\n🧧 Calligraphy station\n🥠 Special appearances from some of our favorite Bay Area AAPI artisans\, businesses\, and culinary delights such as Four Kings\, Now Place\, and Unbound Bookstore. \n**PLEASE NOTE** Our menu will include a variety of vegan and non-vegan dishes including seafood & pork. Allergens: gluten\, nuts and seeds\, alliums\, dairy. Unfortunately\, we are not able to accomodate any dietary substitutions. However\, the menu is designed with the intention to make sure every guest of all diets are well-fed. \nAttire: Formal/Traditional wear is encouraged. \nParking: Cameron House is located on a one-way street with limited street parking. We recommend the nearest garage: Portsmouth Square Garage at 733 Kearny St. \nWheelchair accessible entrance is located on Joice St. \nPlease contact Layla at laylashyu@gmail.com for any questions and assistance. \nLearn more about these two wonderful orgs here: \nhttps://cameronhouse.org/\nhttps://ffcommunityfarm.org/ \n恭喜發財! Happy Year of the Horse! We can’t wait to celebrate with you! \nYour hosts: Kevin Chen\, Nanxi Wang\, Layla Yu \nRead more about your hosts\, chefs\, and DJs! \n\n\n\n\n\nKevin Chen\nLike most good Asian Boys\, Kevin Chen received an engineering degree and worked a corporate job before dishonoring his family to pursue his passion of food. Today\, he’s a chef at Four Kings and a writer @kcheneats on Substack. His projects aim to represent the future of Chinese American culture and cuisine for our generation. He enjoys putting ketchup on his wontons. \nNanxi Wang\nNanxi is a popup cook and baker based out of San Francisco. She is inspired by her Bay Area upbringing and her family’s Chinese heritage to approach food as a form of community building\, identity formation\, and creative expression. \nLayla Yu\nBorn and braised in Stockton\, CA\, Layla is a Chinese-Egyptian producer and chef bringing stories to life across film\, photography\, community events\, and food. She believes cooking is the innate origin of human creativity\, and is infinitely fascinated with how familiar produce and a shared meal bridges us near and far. Outside of event production\, she’ll likely be chatting to neighborhood aunties\, chronicling the various techniques for a single dish. \nRed Beans (DJ)\nredbeans 红豆 is a duo of Will + Jason that prioritizes sharing meaningful music & space\, building intentional relationships\, and taking things slow ♡ \nSea2Sea (DJ)\nSea2Sea is a community-rooted diasporic sound project exploring music through echoes of Việt memory\, ritual\, and connection. Sometimes by way of radio and live performance\, the music honors renewal\, transition\, and new beginnings\, carried across generations and geographies.
URL:https://cameronhouse.org/event/netxtgen-event-lunar-new-year-banquet-with-cameron-house/
CATEGORIES:NextGen
ATTACH;FMTTYPE=image/png:https://cameronhouse.org/wp-content/uploads/2026/01/nextgenheading-scaled.png
END:VEVENT
BEGIN:VEVENT
DTSTART;TZID=America/Los_Angeles:20251203T183000
DTEND;TZID=America/Los_Angeles:20251203T203000
DTSTAMP:20260423T170628
CREATED:20251127T183336Z
LAST-MODIFIED:20251127T183436Z
UID:26326-1764786600-1764793800@cameronhouse.org
SUMMARY:NextGen Event: Help & Hang: A Volunteer Mixer at Cameron House
DESCRIPTION:​Looking for a fun way to plug into SF’s AAPI community before the year wraps?✨ Join Cameron House NextGen for a lively evening bringing together AAPI-serving orgs and younger professionals who care about making a difference. \n​We’re gathering some amazing CBOs (Civic Joy Fund\, AAPI Empower Hour\, Florence Fang Community Farm\, Asian Inc.\, and more) for a night of connection\, community\, and real volunteer opportunities. No boring panels\, no stuffy networking. Just good people doing good things. \nRSVP Here: https://luma.com/0o4iseee \n​✨ Expect:\n🥟 Free Chinese and Korean bites\n🎁 A delicious raffle full of local food goodies and an exclusive coffee experience\n🤝 A room full of passionate orgs + potential volunteers\n💬 Quick spotlights + open tables to chat\, ask questions\, and get involved\n💛 A warm\, community-first atmosphere in the heart of SF Chinatown \n​🏛️ A rare chance to tour our historic Cameron House building\, where Donaldina Cameron rescued trafficked Asian women and hid them in an underground tunnel that still exists\, in the late 1800s—normally closed to the public! \n​Program Flow \n​6:30–6:50 — Arrive\, eat\, mingle\n6:50–7:10 — Intro to Cameron House & NextGen\n7:10–7:30 — 3–5 min spotlights from each CBO\n7:30–8:30 — Open social + CBO tables + raffle at the end! \n​Come meet great people\, discover meaningful ways to get involved\, and close out the year feeling connected and inspired. \n​Spots are limited to 50 people—RSVP and we’ll see you there!
URL:https://cameronhouse.org/event/nextgen-event-help-hang-a-volunteer-mixer-at-cameron-house/
LOCATION:Cameron House\, 920 Sacramento St\, San Francisco\, CA\, 94108\, United States
CATEGORIES:NextGen
ATTACH;FMTTYPE=image/png:https://cameronhouse.org/wp-content/uploads/2025/11/Website-Events-featured-images.png
END:VEVENT
BEGIN:VEVENT
DTSTART;TZID=America/Los_Angeles:20251129T160000
DTEND;TZID=America/Los_Angeles:20251129T210000
DTSTAMP:20260423T170628
CREATED:20251014T232233Z
LAST-MODIFIED:20251111T004903Z
UID:26109-1764432000-1764450000@cameronhouse.org
SUMMARY:Harvest Homecoming
DESCRIPTION:Harvest Homecoming \nA Warm Reunion for Our Alumni & Community \nJoin us for Harvest Homecoming\, a casual\, come-as-you-are gathering where alumni from all Cameron House programs and services are invited to reconnect\, catch up\, and celebrate our shared history. Come and go as you please within the event window — we’ll have comfort food and drinks ready for you. \nThe stage will be open for alumni to share their gifts — music\, poetry\, storytelling\, or talents — as we celebrate the community that continues to grow from our strong Cameron House roots. We’re working on setting up a mah jong tournament for some spirited friendly competition. \nWe can’t wait to welcome you home for this meaningful and joy-filled gathering! 💛 Help us make sure we have enough food and seats to accommodate all our guests! \nRSVP here! \nCan’t attend but want to support the effort? The best way to help is to make an unrestricted donation to Cameron House via this form: https://cameronhouse.org/give/donate/?tfa_292=CH%20Website%20Donate%20Button \nThat way\, we can use those funds to stock the shelves with exactly the inventory that’s needed. \nIf you’re really super duper excited to buy market items only\, send dried noodles\, 2lb or 5lb bags of white rice\, or toilet paper to Cameron House\, Attn: Kim Lan Grout\, c/o Harvest Market Pantry\, 920 Sacramento St.\, San Francisco\, CA 94108. These items are most requested and least likely to make a big mess in shipping. \nAdmission into the reunion is itself an act of service. Please bring a grocery bag filled with Asian culturally-appropriate\, unexpired\, unopened\, shelf-stable foods. Your gift will stock our Harvest Market Pantry — a discreet\, dignified\, and free market from which our low income social services and youth program families can “shop” throughout December. \nWe recommended filling your bag with some of the following items. This list is meant to provide an idea of what is needed and is not an exhaustive list. Please note that we cannot accommodate items in bulk. Items should be sized for a single family and manageable for a person to carry home\, for example. \nExamples of recommended admission groceries to bring: \nSauces & seasonings: soy\, oyster sauce\, and chili sauce; salt; black pepper; sesame oil; rice vinegar; white and palm sugars; corn starch; rice and glutinous rice flours \nSnacks & beverages: seaweed sheets\, tea bags\, rice crackers\, ground coffee\, chips\, candy\nSoup and noodles: instant ramen meals; soup or broth bases (miso\, herbal\, etc.); bouillon; or soup concentrates; dried rice\, egg\, or buckwheat noodles\nCooking oils: vegetable\, olive\, avocado oil\, and canola\nGift Cards to Target\, Safeway\, Lucky\, and Walmart (increments of $20 preferred). Clipper cards to use on BART or MUNI are also needed.\nHousehold & personal care: toilet paper; facial tissue; paper towels; garbage bags (all sizes); shampoo\, conditioner\, body wash; toothbrushes\, toothpaste; hand soap and sanitizer; face masks; feminine hygiene products \n\nWe are grateful to our partners at Ascend NorCal for supplying the Harvest Market Pantry with instant ramen and 2lb-5lb bags of white rice.
URL:https://cameronhouse.org/event/harvest-homecoming/
LOCATION:Cameron House\, 920 Sacramento St\, San Francisco\, CA\, 94108\, United States
CATEGORIES:FoCH
ATTACH;FMTTYPE=image/png:https://cameronhouse.org/wp-content/uploads/2025/10/Website-Events-featured-images-3-scaled.png
END:VEVENT
BEGIN:VEVENT
DTSTART;TZID=America/Los_Angeles:20251122T150000
DTEND;TZID=America/Los_Angeles:20251122T170000
DTSTAMP:20260423T170628
CREATED:20251014T223430Z
LAST-MODIFIED:20251111T015110Z
UID:26098-1763823600-1763830800@cameronhouse.org
SUMMARY:2025 Annual Meeting
DESCRIPTION:Annual Meeting 2025: A Celebration of a Transformational Year \nYou are invited to Cameron House’s first-ever Annual Meeting\, a celebration of a transformational year and for the incredible things to come! Together\, we’ll reflect on Cameron House’s impact throughout Fiscal Year 2025 (October 1\, 2024 – September 30\, 2025)\, share our FY25 Annual Report\, and present a sneak peek into our Strategic Plan. \nWe’ll also take this time to honor our outgoing board members and welcome our incoming ones\, all while enjoying light hors d’oeuvres and drinks in great company. This is the ideal opportunity to mix\, mingle\, and get to know our leadership\, staff\, and each other better. Tours of the new Makerspace will be offered. The agenda for the evening will be shared with registrants in advance. 🎉 \nWe’re expecting a full house\, so sign up to reserve your spot today: https://go.cameronhouse.org/annualmeeting2025  \nWe can’t wait to see you!
URL:https://cameronhouse.org/event/2025-annual-meeting/
LOCATION:Cameron House\, 920 Sacramento St\, San Francisco\, CA\, 94108\, United States
CATEGORIES:Community
ATTACH;FMTTYPE=image/png:https://cameronhouse.org/wp-content/uploads/2025/11/Website-Events-featured-images-copy-scaled.png
END:VEVENT
BEGIN:VEVENT
DTSTART;TZID=America/Los_Angeles:20250622T110000
DTEND;TZID=America/Los_Angeles:20250622T150000
DTSTAMP:20260423T170628
CREATED:20250618T181623Z
LAST-MODIFIED:20250703T225906Z
UID:25419-1750590000-1750604400@cameronhouse.org
SUMMARY:Picnic in the Park
DESCRIPTION:🎉 Picnic in the Park: Food\, Games\, Prizes & Community Fun – June 22\, 2025! 🎈 \nCameron House is gathering for its third annual Picnic in the Park on Sunday\, June 22\, from 11AM to 3PM at Mountain Lake Park in San Francisco’s Inner Richmond District. \nThis year’s picnic marks an exciting moment—the official launch of Friends of Cameron House (FoCH)\, a new initiative created in partnership with Cameron House NextGen. It’s a celebration of community\, connection\, and the next generation of leaders carrying forward the Cameron House legacy. \nThe event is free and open to all. Guests enjoy: \n\n🍉 Snacks and refreshments\n🧺 Potluck-style picnic – folks are welcome to bring their own dishes to share\n🪁 Games and activities for all ages\n🎁 Fun prizes and throwback vibes\n🌞 A sunny day in the park to relax\, reconnect\, and recharge\n\nFamilies\, alumni\, neighbors\, and newcomers are all invited to come hang out\, share a meal\, and see what’s happening at Cameron House. Whether staying for 20 minutes or a few hours\, everyone is welcome to stop by and be part of the joy. \nMountain Lake Park offers something for everyone—playgrounds\, basketball and pickleball courts (reserve in advance)\, walking trails\, a dog-friendly area\, and easy access to local favorites on Clement Street. Best park entrance for the picnic: 9th Ave & Lake St. \nCameron House continues to celebrate 150+ years of community\, service\, and leadership. This picnic is just one way we gather\, grow\, and move forward—together. \nView 2024 photo album here
URL:https://cameronhouse.org/event/2025-picnic-in-the-park/
LOCATION:Mountain Lake Park\, 98 Funston Ave\, San Francisco\, CA 94118\, San Francisco\, CA\, 94118
CATEGORIES:NextGen
ATTACH;FMTTYPE=image/png:https://cameronhouse.org/wp-content/uploads/2025/06/Copy-of-2025-Picnic-in-the-park-1.png
END:VEVENT
BEGIN:VEVENT
DTSTART;TZID=UTC:20240928T180000
DTEND;TZID=UTC:20240928T213000
DTSTAMP:20260423T170628
CREATED:20200909T110221Z
LAST-MODIFIED:20241029T181857Z
UID:2055-1727546400-1727559000@cameronhouse.org
SUMMARY:150th Anniversary Gala: Connecting Hearts\, Transforming Futures
DESCRIPTION:This year’s SOLD OUT Cameron House Gala was unforgettable. We are immensely grateful that you were able to join us for Cameron House’s 150th anniversary gala. Your attendance made the evening exceptionally special. If you weren’t able to attend\, we missed you and hope to see you at a future event. \n \nView the 150th Gala photo album
URL:https://cameronhouse.org/event/connecting-hearts-transforming-futures/
CATEGORIES:150th Anniversary Celebration
ATTACH;FMTTYPE=image/png:https://cameronhouse.org/wp-content/uploads/2024/08/gala-July-final-draft-1-e1725485769834.png
END:VEVENT
BEGIN:VEVENT
DTSTART;TZID=UTC:20240720T120000
DTEND;TZID=UTC:20240720T160000
DTSTAMP:20260423T170628
CREATED:20200909T110219Z
LAST-MODIFIED:20250617T214732Z
UID:2052-1721476800-1721491200@cameronhouse.org
SUMMARY:July 20\, 2024 | Picnic in the Park
DESCRIPTION:The 2nd annual Picnic in the Park attracted about 100 attendees and brought smiles and sunshine to Golden Gate Park. Current and past Cameron House program participants\, friends\, and supporters reconnected\, noshed on grilled burgers\, and shared potluck fare. \nA special thank you to all volunteers who made this day possible! \nView photo album here
URL:https://cameronhouse.org/event/picnic-in-the-park/
LOCATION:Hellman Hollow\, Golden Gate Park\, Hellman Hollow\, Golden Gate Park\, 800 John F Kennedy Dr.\, CA\, 94122\, United States
CATEGORIES:150th Anniversary Celebration
ATTACH;FMTTYPE=image/jpeg:https://cameronhouse.org/wp-content/uploads/2020/09/2307_CH_Picnic_098-scaled.jpg
END:VEVENT
BEGIN:VEVENT
DTSTART;VALUE=DATE:20240504
DTEND;VALUE=DATE:20240505
DTSTAMP:20260423T170628
CREATED:20200909T110221Z
LAST-MODIFIED:20240727T154953Z
UID:2056-1714780800-1714867199@cameronhouse.org
SUMMARY:May 4\, 2024 | Cameron Carnival
DESCRIPTION:Cameron Carnival made its long-awaited return! May 4th was filled with family-friendly games\, activities\, and food. \n \nWe were happy to reunite with old friends and forge new connections. \nSpecial recognition goes to Carnival Co-Chairs Jon Hee and Dylan Chow for their leadership\, blood\, sweat and tears for resurrecting our first post-pandemic Carnival. Plus\, a special shout out to Pauline\, Rob and Josh Hee for stepping in to lend critical support during the final weeks. \nView photo album  
URL:https://cameronhouse.org/event/cameron-carnival/
CATEGORIES:150th Anniversary Celebration
ATTACH;FMTTYPE=image/jpeg:https://cameronhouse.org/wp-content/uploads/2024/07/2405_Carnival_503-300x259-1.jpg
END:VEVENT
BEGIN:VEVENT
DTSTART;VALUE=DATE:20240309
DTEND;VALUE=DATE:20240310
DTSTAMP:20260423T170628
CREATED:20200909T110225Z
LAST-MODIFIED:20240727T160658Z
UID:2057-1709942400-1710028799@cameronhouse.org
SUMMARY:March 9\, 2024 | Cameron House & Chinatown: Sharing Our Past\, Shaping Our Future
DESCRIPTION:An engaging discussion on the historical significance of Cameron House\, Chinatown’s current needs\, and future strategic initiatives to create meaningful change. \n\nRev. Harry Chuck\, former Cameron House Executive Director\nRev. Norman Fong\, Chinatown activist and leader\nAaron Peskin\, President\, SF Board of Supervisors\, representing District 3 including Chinatown\nLiane Wong\, President\, CH Board of Directors\n\nWatch the recorded event \nView photo album 
URL:https://cameronhouse.org/event/sharing-our-past-shaping-our-future/
CATEGORIES:150th Anniversary Celebration
END:VEVENT
END:VCALENDAR