BEGIN:VCALENDAR
VERSION:2.0
PRODID:-//Cameron House - ECPv6.15.13//NONSGML v1.0//EN
CALSCALE:GREGORIAN
METHOD:PUBLISH
X-WR-CALNAME:Cameron House
X-ORIGINAL-URL:https://cameronhouse.org
X-WR-CALDESC:Events for Cameron House
REFRESH-INTERVAL;VALUE=DURATION:PT1H
X-Robots-Tag:noindex
X-PUBLISHED-TTL:PT1H
BEGIN:VTIMEZONE
TZID:America/Los_Angeles
BEGIN:DAYLIGHT
TZOFFSETFROM:-0800
TZOFFSETTO:-0700
TZNAME:PDT
DTSTART:20250309T100000
END:DAYLIGHT
BEGIN:STANDARD
TZOFFSETFROM:-0700
TZOFFSETTO:-0800
TZNAME:PST
DTSTART:20251102T090000
END:STANDARD
BEGIN:DAYLIGHT
TZOFFSETFROM:-0800
TZOFFSETTO:-0700
TZNAME:PDT
DTSTART:20260308T100000
END:DAYLIGHT
BEGIN:STANDARD
TZOFFSETFROM:-0700
TZOFFSETTO:-0800
TZNAME:PST
DTSTART:20261101T090000
END:STANDARD
BEGIN:DAYLIGHT
TZOFFSETFROM:-0800
TZOFFSETTO:-0700
TZNAME:PDT
DTSTART:20270314T100000
END:DAYLIGHT
BEGIN:STANDARD
TZOFFSETFROM:-0700
TZOFFSETTO:-0800
TZNAME:PST
DTSTART:20271107T090000
END:STANDARD
END:VTIMEZONE
BEGIN:VEVENT
DTSTART;VALUE=DATE:20260530
DTEND;VALUE=DATE:20260531
DTSTAMP:20260422T052325
CREATED:20260421T035451Z
LAST-MODIFIED:20260421T040346Z
UID:26767-1780099200-1780185599@cameronhouse.org
SUMMARY:Save The Date! Tien Fuh Wu Day of Service
DESCRIPTION:Save The Date! Tien Fuh Wu Day of Service\, hosted by Friends of Cameron House \nJoin us in a day of volunteerism for SF Chinatown and the San Francisco community by signing up for one of our service projects. All ages and abilities are welcome to meet new service-oriented friends\, share a meal\, give back\, and honor the event’s namesake\, Tien Fuh Wu\, who dedicated her life to serving those in need in Chinatown in the early twentieth century. All supplies will be provided; a meal will be served to all volunteers.
URL:https://cameronhouse.org/event/dayofservice/
CATEGORIES:FoCH
ATTACH;FMTTYPE=image/png:https://cameronhouse.org/wp-content/uploads/2026/04/tfw-scaled.png
END:VEVENT
END:VCALENDAR